BEGIN:VCALENDAR
VERSION:2.0
PRODID:-//World Cup Dreams Foundation - ECPv6.12.0.1//NONSGML v1.0//EN
CALSCALE:GREGORIAN
METHOD:PUBLISH
X-ORIGINAL-URL:https://worldcupdreams.org
X-WR-CALDESC:Events for World Cup Dreams Foundation
REFRESH-INTERVAL;VALUE=DURATION:PT1H
X-Robots-Tag:noindex
X-PUBLISHED-TTL:PT1H
BEGIN:VTIMEZONE
TZID:UTC
BEGIN:STANDARD
TZOFFSETFROM:+0000
TZOFFSETTO:+0000
TZNAME:UTC
DTSTART:20260101T000000
END:STANDARD
END:VTIMEZONE
BEGIN:VEVENT
DTSTART;TZID=UTC:20260305T170000
DTEND;TZID=UTC:20260305T220000
DTSTAMP:20260422T100157
CREATED:20260103T172945Z
LAST-MODIFIED:20260103T180409Z
UID:3552-1772730000-1772748000@worldcupdreams.org
SUMMARY:A Night at Bonnie's 2026
DESCRIPTION:*To purchase a ticket using a Donor-Advised Fund\, family foundation\, check\, or wire transfer\, please contact claire@worldcupdreams.org.
URL:https://worldcupdreams.org/event/a-night-at-bonnies-2026/
ATTACH;FMTTYPE=image/jpeg:https://worldcupdreams.org/wp-content/uploads/2021/09/pexels-leah-kelley-325521.jpg
END:VEVENT
END:VCALENDAR